BEGIN:VCALENDAR
PRODID:-//kirchenweb.ch gmbh//veranstaltungsausgabe v2.0//DE
VERSION:2.0
METHOD:PUBLISH
BEGIN:VEVENT
DTSTART:20260529T160000Z
DTEND:20260529T200000Z
LOCATION:Oase-Bar\, \,
TRANSP:OPAQUE
SEQUENCE:0
UID:31964-veranstaltung@ref-sgc.ch
DTSTAMP:20260414T141107Z
DESCRIPTION:Gemütlich zusammensitzen\, etwas essen\, auf das Wochenende
  anstossen\, miteinander plaudern\, austauschen und geniessen. Ein
  Begegnungsort\, der auch für Familien mit Kindern geeignet ist.\n
 \nKontakt: sabrina.koller@ref-sgc.ch\n\nWeitere Infos:
  https://www.ref-sgc.ch/veranstaltung/31964
SUMMARY:Gemütlichkeit trifft Geselligkeit
PRIORITY:5
X-MICROSOFT-CDO-IMPORTANCE:1
CLASS:PUBLIC
END:VEVENT
END:VCALENDAR
