BEGIN:VCALENDAR
PRODID:-//kirchenweb.ch gmbh//veranstaltungsausgabe v2.0//DE
VERSION:2.0
METHOD:PUBLISH
BEGIN:VEVENT
DTSTART:20260509T160000Z
DTEND:20260509T170000Z
LOCATION:Wiborada Kapelle\, St. Georgenstrasse\, 9011 St. Gallen
TRANSP:OPAQUE
SEQUENCE:0
UID:31963-veranstaltung@ref-sgc.ch
DTSTAMP:20260414T140921Z
DESCRIPTION:Gemeinsames Singen\, Musizieren\, Nachdenken\,
  Gedanken-Teilen. Im Anschluss kulinarische Teilete als
  „Finger-Food-Buffet“. Getragen von einer Gruppe von evangelischen und
  katholischen St. Geörglern/innen.\n\nKontakt: sabrina.koller@ref-sgc.ch
 \n\nWeitere Infos: https://www.ref-sgc.ch/veranstaltung/31963
SUMMARY:Ökumenisches Gottesdienst-Angebot „Feiern und Teilen“
PRIORITY:5
X-MICROSOFT-CDO-IMPORTANCE:1
CLASS:PUBLIC
END:VEVENT
END:VCALENDAR
