BEGIN:VCALENDAR
PRODID:-//kirchenweb.ch gmbh//veranstaltungsausgabe v2.0//DE
VERSION:2.0
METHOD:PUBLISH
BEGIN:VEVENT
DTSTART:20260507T140000Z
DTEND:20260507T160000Z
LOCATION:Evang.-ref. Kirche St. Laurenzen\, Marktgasse 25\, 9000 St.
  Gallen
TRANSP:OPAQUE
SEQUENCE:0
UID:31957-veranstaltung@ref-sgc.ch
DTSTAMP:20260414T140342Z
DESCRIPTION:«Gibt es Dinge\, die Sie im Moment beschäftigen oder
  belasten? Sprechen Sie mit einer ausgebildeten Seelsorgerin\, einem
  Seelsorger\, der unter Schweigepflicht steht. Ein Angebot für alle\,
  unabhängig von Herkunft und religiöser Zugehörigkeit.»\nWalter
  Lingenhöle\n\n\nKontakt: sabrina.koller@ref-sgc.ch\n\nWeitere Infos:
  https://www.ref-sgc.ch/veranstaltung/31957
SUMMARY:GANZ OHR - für Ihre Anliegen
PRIORITY:5
X-MICROSOFT-CDO-IMPORTANCE:1
CLASS:PUBLIC
END:VEVENT
END:VCALENDAR
