BEGIN:VCALENDAR
PRODID:-//kirchenweb.ch gmbh//veranstaltungsausgabe v2.0//DE
VERSION:2.0
METHOD:PUBLISH
BEGIN:VEVENT
DTSTART:20260509T160000Z
DTEND:20260509T170000Z
LOCATION:Areal Bach\,  Bachstrasse 10d\, 9008 St.Gallen
TRANSP:OPAQUE
SEQUENCE:0
UID:31734-veranstaltung@ref-sgc.ch
DTSTAMP:20260331T111711Z
DESCRIPTION:Die Reise- und Camping-Saison steht vor der Tür. Wer mit
  Gottes Segen ins Camping-Abenteuer aufbricht\, reist gelassener und
  entspannter. Wenn Ihr Euch als Camper:innen segnen lassen möchtet\, dann
  kommt am 9. Mai um 18 Uhr zum Segnungs-Event mit Camping-Groove auf’s
  Areal Bach neben «Gustav Gleis» im Osten der Stadt St.Gallen. Gemeinsam
  mit dem Verein «Wohnmobilland Schweiz» freuen wir uns sehr auf Euch!
  Kommt mit eurem Bulli\, Camper\, Velo\, Zelt oder Wohnmobil. Ab 17.30 Uhr
  könnt Ihr eintrudeln und nach der Segnung besteht die Möglichkeit\,
  gemeinsam zu grillieren und rund um’s Lagerfeuer zu bleiben. Bitte
  bringt dazu Euer Grillgut und Lieblingsgetränk selber mit. Der Anlass
  findet bei jeder Witterung statt. \n\nKontakt: Pfr. Matthias Wenk\n
 \nWeitere Infos: https://www.ref-sgc.ch/veranstaltung/31734
SUMMARY:Gesegnete RausZeit: Camper:innen-Segnung 2026
PRIORITY:5
X-MICROSOFT-CDO-IMPORTANCE:1
CLASS:PUBLIC
END:VEVENT
END:VCALENDAR
