BEGIN:VCALENDAR
PRODID:-//kirchenweb.ch gmbh//veranstaltungsausgabe v2.0//DE
VERSION:2.0
METHOD:PUBLISH
BEGIN:VEVENT
DTSTART:20261118T183000Z
DTEND:20261118T203000Z
LOCATION:Kirchgemeindehaus St. Georgen\, Demutstrasse 20\, 9000 St. Gallen
TRANSP:OPAQUE
SEQUENCE:0
UID:31629-veranstaltung@ref-sgc.ch
DTSTAMP:20260320T162052Z
DESCRIPTION:Kontakt: Markus Unholz\n\nWeitere Infos:
  https://www.ref-sgc.ch/veranstaltung/31629
SUMMARY:Chorprojekt für die Christnachtfeier
PRIORITY:5
X-MICROSOFT-CDO-IMPORTANCE:1
CLASS:PUBLIC
END:VEVENT
END:VCALENDAR
