BEGIN:VCALENDAR
PRODID:-//kirchenweb.ch gmbh//veranstaltungsausgabe v2.0//DE
VERSION:2.0
METHOD:PUBLISH
BEGIN:VEVENT
DTSTART:20260410T140000Z
DTEND:20260410T160000Z
LOCATION:Café Gschwend (Notkerstube)\, \,
TRANSP:OPAQUE
SEQUENCE:0
UID:31616-veranstaltung@ref-sgc.ch
DTSTAMP:20260407T063524Z
DESCRIPTION:Die beiden Sterbe- und Trauerbegleiterinnen Isabel Spirig und
  Francesca Peter bieten neu jeweils am zweiten Freitag des Monats im Café
  Gschwend ein Trauercafé mit Gesprächsmöglichkeit und kreativen
  Impulsen an.  \nEin Raum für Austausch\, Verarbeitung und
  Neuorientierung. Ob als aktive Erzählerin oder stiller Zuhörer\,
  langjährige Trauernde oder neu Betroffener.\n\n\nKontakt: Pfrn. Kathrin
  Bolt\n\nWeitere Infos: https://www.ref-sgc.ch/veranstaltung/31616
SUMMARY:Trauercafé
PRIORITY:5
X-MICROSOFT-CDO-IMPORTANCE:1
CLASS:PUBLIC
END:VEVENT
END:VCALENDAR
