BEGIN:VCALENDAR
PRODID:-//kirchenweb.ch gmbh//veranstaltungsausgabe v2.0//DE
VERSION:2.0
METHOD:PUBLISH
BEGIN:VEVENT
DTSTART:20260406T080000Z
DTEND:20260406T090000Z
LOCATION:Kirche Bruggen\, Zürcher Strasse 223\, 9014 St. Gallen
TRANSP:OPAQUE
SEQUENCE:0
UID:31615-veranstaltung@ref-sgc.ch
DTSTAMP:20260319T072607Z
DESCRIPTION:Kontakt: Pfrn. Anne Dietrich und Pfrn. Kathrin Bolt\n\nWeitere
  Infos: https://www.ref-sgc.ch/veranstaltung/31615
SUMMARY:Gesamtstädtischer Gottesdienst zum Ostermontag
PRIORITY:5
X-MICROSOFT-CDO-IMPORTANCE:1
CLASS:PUBLIC
END:VEVENT
END:VCALENDAR
