BEGIN:VCALENDAR
PRODID:-//kirchenweb.ch gmbh//veranstaltungsausgabe v2.0//DE
VERSION:2.0
METHOD:PUBLISH
BEGIN:VEVENT
DTSTART:20260627T060000Z
DTEND:20260627T200000Z
LOCATION:Kirchgemeindehaus St. Georgen\, Demutstrasse 20\, 9000 St. Gallen
TRANSP:OPAQUE
SEQUENCE:0
UID:31609-veranstaltung@ref-sgc.ch
DTSTAMP:20260317T095317Z
DESCRIPTION:Kontakt: emil.minikus@ref-sgc.ch\n\nWeitere Infos:
  https://www.ref-sgc.ch/veranstaltung/31609
SUMMARY:Sperrzeit
PRIORITY:5
X-MICROSOFT-CDO-IMPORTANCE:1
CLASS:PUBLIC
END:VEVENT
END:VCALENDAR
