BEGIN:VCALENDAR
PRODID:-//kirchenweb.ch gmbh//veranstaltungsausgabe v2.0//DE
VERSION:2.0
METHOD:PUBLISH
BEGIN:VEVENT
DTSTART:20261211T140000Z
DTEND:20261211T160000Z
LOCATION:Kirchgemeindehaus Linsebühl\, Flurhofstrasse 3\, 9000 St. Gallen
TRANSP:OPAQUE
SEQUENCE:0
UID:31567-veranstaltung@ref-sgc.ch
DTSTAMP:20260311T102450Z
DESCRIPTION:Kinder bis zu 5 Jahren und Seniorinnen und Senioren treffen
  sich zu einen gemütlichen Spiel und Bastelnachmittag. Eltern\, deren
  Kinder ihre Begleitung benötigen\, sind ebenfalls herzlich willkommen\n
 \nKontakt: Diakon Daniel Bertoldo\, Delia Zeller\n\nWeitere Infos:
  https://www.ref-sgc.ch/veranstaltung/31567
SUMMARY:Generationennachmittag
PRIORITY:5
X-MICROSOFT-CDO-IMPORTANCE:1
CLASS:PUBLIC
END:VEVENT
END:VCALENDAR
