BEGIN:VCALENDAR
PRODID:-//kirchenweb.ch gmbh//veranstaltungsausgabe v2.0//DE
VERSION:2.0
METHOD:PUBLISH
BEGIN:VEVENT
DTSTART:20260615T101500Z
DTEND:20260615T104500Z
LOCATION:Evang.-ref. Kirche St. Laurenzen\, Marktgasse 25\, 9000 St.
  Gallen
TRANSP:OPAQUE
SEQUENCE:0
UID:31523-veranstaltung@ref-sgc.ch
DTSTAMP:20260309T153029Z
DESCRIPTION:Die aktuelle Weltlage besorgt uns zutiefst. Als Kirchen
  möchten wir nicht einfach zuschauen.\nDeshalb treffen wir uns ab sofort
  jeden Montagmittag zum halbstündigen Friedensgebet in unserer
  reformierten Stadtkirche.\nMit Kerzen\, Stille\, einfachen Liedern und
  kurzen Texten.\nVerantwortet wird das Gebet von reformierten und
  katholischen Seelsorger:innen der Stadt.\n\nKontakt: Bea Känel\nPfr.
  Matthias Wenk\n\nWeitere Infos:
  https://www.ref-sgc.ch/veranstaltung/31523
SUMMARY:«Nicht müde werden» - Gebet für den Frieden
PRIORITY:5
X-MICROSOFT-CDO-IMPORTANCE:1
CLASS:PUBLIC
END:VEVENT
END:VCALENDAR
