BEGIN:VCALENDAR
PRODID:-//kirchenweb.ch gmbh//veranstaltungsausgabe v2.0//DE
VERSION:2.0
METHOD:PUBLISH
BEGIN:VEVENT
DTSTART:20270123T160000Z
DTEND:20270123T173000Z
LOCATION:Kirchgemeindehaus St. Georgen\, \,
TRANSP:OPAQUE
SEQUENCE:0
UID:31472-veranstaltung@ref-sgc.ch
DTSTAMP:20260224T153150Z
DESCRIPTION:Kontakt: Markus Unholz\n\nWeitere Infos:
  https://www.ref-sgc.ch/veranstaltung/31472
SUMMARY:Ökumenischer Taizé-Gottesdienst
PRIORITY:5
X-MICROSOFT-CDO-IMPORTANCE:1
CLASS:PUBLIC
END:VEVENT
END:VCALENDAR
