BEGIN:VCALENDAR
PRODID:-//kirchenweb.ch gmbh//veranstaltungsausgabe v2.0//DE
VERSION:2.0
METHOD:PUBLISH
BEGIN:VEVENT
DTSTART:20260619T123000Z
DTEND:20260619T153000Z
LOCATION:Kirchgemeindehaus Linsebühl und Spielplatz\, Flurhofstrasse 3\,
  9000 St. Gallen
TRANSP:OPAQUE
SEQUENCE:0
UID:31337-veranstaltung@ref-sgc.ch
DTSTAMP:20260325T082554Z
DESCRIPTION:Spielnachmittag für Vorschulkinder bis dritte Klasse
 \nhttps://platz-frei.ch/programm/kindernachmittage/\n\nKontakt: Delia
  Zeller\n\nWeitere Infos: https://www.ref-sgc.ch/veranstaltung/31337
SUMMARY:Spiele bi de Chile
PRIORITY:5
X-MICROSOFT-CDO-IMPORTANCE:1
CLASS:PUBLIC
END:VEVENT
END:VCALENDAR
