BEGIN:VCALENDAR
PRODID:-//kirchenweb.ch gmbh//veranstaltungsausgabe v2.0//DE
VERSION:2.0
METHOD:PUBLISH
BEGIN:VEVENT
DTSTART:20260501T080000Z
DTEND:20260501T140000Z
LOCATION:Evang.-ref. Kirche St. Laurenzen\, Marktgasse 25\, 9000 St.
  Gallen
TRANSP:OPAQUE
SEQUENCE:0
UID:31302-veranstaltung@ref-sgc.ch
DTSTAMP:20260217T092713Z
DESCRIPTION:„Heute schon ge(k)tauft?!“\n\nHast Du schon öfters mit
  dem Gedanken gespielt\, Dich taufen zu lassen\, aber nie den passenden
  Moment dafür gefunden? Schrecken Dich der Aufwand und die Vorbereitungen
  dafür ab oder möchtest Du diesen Schritt lieber alleine\, spontan\,
  unkompliziert und ohne viel Trubel begehen?\nBei den „Pick!“ Shopping
  Days St. Gallen 2026 hast Du die Möglichkeit dazu. Während in den
  Gassen der Stadt besondere Einkaufs- und Gastronomie-Events stattfinden\,
  laden wir als Cityseelsorge „reformiert mittendrin“ unter dem Motto
  „Heute schon ge(k)tauft?!“ alle Kurzentschlossenen dazu ein\, sich in
  der Kirche St. Laurenzen taufen zu lassen und einen persönlichen Segen
  zu erfahren.\n\nAm Freitag\, den 1. Mai 2026 werden wir zwischen 10.00
  und 15.30 Uhr vor und in der Kirche St. Laurenzen für Dich da sein. An
  verschiedenen Stationen kannst Du Dich über die Taufe informieren\,
  Fragen stellen und mit uns ins Gespräch kommen. Ausserdem kannst Du Dir
  einen eigenen Taufspruch\, eine Taufkerze und sogar ein Musikstück
  auswählen. Natürlich erhältst Du im Anschluss an die Taufe eine
  Urkunde und wir stossen mit Dir gemeinsam auf diesen einmaligen Moment
  an. \nDu bist schon getauft oder einfach nur neugierig? Dann komm
  trotzdem vorbei und lass Dir von uns einen persönlichen Segen
  zusprechen. \n\nDas Team von „reformiert mittendrin“ freut sich auf
  Dich!\n\nKontakt: Matthias Wenk\n079 610 68 82\n\nWeitere Infos:
  https://www.ref-sgc.ch/veranstaltung/31302
SUMMARY:"Heute schon ge(k)tauft?!" - Taufe to go durch
  reformiertmittendrin
PRIORITY:5
X-MICROSOFT-CDO-IMPORTANCE:1
CLASS:PUBLIC
END:VEVENT
END:VCALENDAR
