BEGIN:VCALENDAR
PRODID:-//kirchenweb.ch gmbh//veranstaltungsausgabe v2.0//DE
VERSION:2.0
METHOD:PUBLISH
BEGIN:VEVENT
DTSTART:20260506T120000Z
DTEND:20260506T150000Z
LOCATION:Evang.-ref. Kirche Linsebühl\, Flurhofstrasse 1\, 9000 St.
  Gallen
TRANSP:OPAQUE
SEQUENCE:0
UID:31071-veranstaltung@ref-sgc.ch
DTSTAMP:20260202T101544Z
DESCRIPTION:Kennst du noch das Gefühl der Tante-Emma-Läden? Ein Ort\, an
  dem man sich beim Namen kannte und immer willkommen war. Genau diesen
  Geist lassen wir im Café Emma aufleben.\nEgal\, ob du allein kommst\, um
  neue Kontakte zu knüpfen\, oder mit der ganzen Familie vorbeischaust –
  bei uns ist der Tisch für dich gedeckt. Hier darfst du einfach sein\,
  geniessen und verweilen.\n\n\nKontakt: Martina Signer\n\nWeitere Infos:
  https://www.ref-sgc.ch/veranstaltung/31071
SUMMARY:Café Emma
PRIORITY:5
X-MICROSOFT-CDO-IMPORTANCE:1
CLASS:PUBLIC
END:VEVENT
END:VCALENDAR
