BEGIN:VCALENDAR
PRODID:-//kirchenweb.ch gmbh//veranstaltungsausgabe v2.0//DE
VERSION:2.0
METHOD:PUBLISH
BEGIN:VEVENT
DTSTART:20260525T160000Z
DTEND:20260525T170000Z
LOCATION:Kirchgemeindehaus St. Georgen\, Demutstrasse 20\, 9000 St. Gallen
TRANSP:OPAQUE
SEQUENCE:0
UID:30966-veranstaltung@ref-sgc.ch
DTSTAMP:20260402T122615Z
DESCRIPTION:Einmal wieder so richtig durchatmen können. Mich selbst
  spüren und wahrnehmen\, wie mich der Atem mit der Welt und dem Himmel
  verbindet. Die Frische des Lebens einatmen und erfahren\, Atem belebt und
  bewegt. Atemzug um Atemzug tiefer ins Leben eintauchen und in Verbindung
  kommen mit der göttlichen Geistkraft. Am Pfingstmontag um 18 Uhr hast Du
  im Kirchgemeindehaus St.Georgen die Möglichkeit dazu – denn: Pfingsten
  ist schliesslich das Fest des göttlichen Atems. Wir feiern Gottes Atem
  im Rahmen dieses gesamtstädtischen Gottesdienstes in einer
  ungewöhnlichen Form zu einer unüblichen Zeit. Es erwartet Dich an
  diesem Abend eine vielfältige Atemreise: \n\nMeditation und Yoga mit
  Marco Santis (Yoga-Lehrer nach den Prinzipien des Herz-Yoga von Mark
  Whitwell – Moving Studio: www.movingstudio.ch) \n\nMusik von Andreas
  Paragioudakis (Musiker und Komponist) – www.andreasparagioudakis.com \n
 \nNimm mit: \nGymnastik- oder Yogamatte \nMeditationskissen oder -hocker 
 \nbequeme Kleidung \nWenn Du möchtest: Trinkflasche & Snacks \n
 \nInformation und Fragen: Matthias Wenk\, 079 610 68 82\,
  matthias.wenk@ref-sgc.ch\, http://www.reformiertmittendrin.ch\n\nKontakt:
  Matthias Wenk\n\nWeitere Infos:
  https://www.ref-sgc.ch/veranstaltung/30966
SUMMARY:Breath is the bridge: Feiere den göttlichen Atem in Dir -
  Gesamtstädtischer Gottesdienst mit Yoga und Meditation
PRIORITY:5
X-MICROSOFT-CDO-IMPORTANCE:1
CLASS:PUBLIC
END:VEVENT
END:VCALENDAR
