BEGIN:VCALENDAR
PRODID:-//kirchenweb.ch gmbh//veranstaltungsausgabe v2.0//DE
VERSION:2.0
METHOD:PUBLISH
BEGIN:VEVENT
DTSTART:20260513T101500Z
DTEND:20260513T104500Z
LOCATION:Evang.-ref. Kirche St. Laurenzen\, Marktgasse 25\, 9000 St.
  Gallen
TRANSP:OPAQUE
SEQUENCE:0
UID:30839-veranstaltung@ref-sgc.ch
DTSTAMP:20260113T152528Z
DESCRIPTION:eg851c (Adrian Egli)\n\nKontakt: Bernhard Ruchti\n\nWeitere
  Infos: https://www.ref-sgc.ch/veranstaltung/30839
SUMMARY:Mittwoch-Mittags-Konzert
PRIORITY:5
X-MICROSOFT-CDO-IMPORTANCE:1
CLASS:PUBLIC
END:VEVENT
END:VCALENDAR
