BEGIN:VCALENDAR
PRODID:-//kirchenweb.ch gmbh//veranstaltungsausgabe v2.0//DE
VERSION:2.0
METHOD:PUBLISH
BEGIN:VEVENT
DTSTART:20260312T173000Z
DTEND:20260312T183000Z
LOCATION:Evang.-ref. Kirche Linsebühl\, Fluhofstrasse 1\, 9000 St. Gallen
TRANSP:OPAQUE
SEQUENCE:0
UID:30772-veranstaltung@ref-sgc.ch
DTSTAMP:20260202T100424Z
DESCRIPTION:Eine Stunde innehalten und sich auf Gott ausrichten – mit
  Taizé-Gesängen\, Bibeltexten\, Stille und Kerzenlicht\n\nKontakt:
  Martina Signer\n\nWeitere Infos:
  https://www.ref-sgc.ch/veranstaltung/30772
SUMMARY:Taizé-Gottesdienst
PRIORITY:5
X-MICROSOFT-CDO-IMPORTANCE:1
CLASS:PUBLIC
END:VEVENT
END:VCALENDAR
