BEGIN:VCALENDAR
PRODID:-//kirchenweb.ch gmbh//veranstaltungsausgabe v2.0//DE
VERSION:2.0
METHOD:PUBLISH
BEGIN:VEVENT
DTSTART:20260530T170000Z
DTEND:20260530T180000Z
LOCATION:Evang.-ref. Kirche St. Mangen\, Kirchgasse 17\, 9000 St. Gallen
TRANSP:OPAQUE
SEQUENCE:0
UID:30692-veranstaltung@ref-sgc.ch
DTSTAMP:20260325T100306Z
DESCRIPTION:Orgel: Verena Förster\n\nSonderkonzert: Frühwerk –
  Neuentdeckungen und Neuzuschreibungen\nMit Erläuterungen durch Verena
  Förster\n\nhttps://www.ref-sgc.ch/dok/1108\n\nKontakt:
  andrea.spirig@ref-sgc.ch\n\nWeitere Infos:
  https://www.ref-sgc.ch/veranstaltung/30692
SUMMARY:Johann Sebastian Bach: Das gesamte Orgelwerk 2026
PRIORITY:5
X-MICROSOFT-CDO-IMPORTANCE:1
CLASS:PUBLIC
END:VEVENT
END:VCALENDAR
