BEGIN:VCALENDAR
PRODID:-//kirchenweb.ch gmbh//veranstaltungsausgabe v2.0//DE
VERSION:2.0
METHOD:PUBLISH
BEGIN:VEVENT
DTSTART:20261119T130000Z
DTEND:20261119T153000Z
LOCATION:Kirchgemeindehaus St. Georgen\, Demutstrasse 20\, 9000 St. Gallen
TRANSP:OPAQUE
SEQUENCE:0
UID:30606-veranstaltung@ref-sgc.ch
DTSTAMP:20251125T100928Z
DESCRIPTION:Gemütliches Beisammensein bei Kaffee\, Tee\, Kuchen\, Jass
  und Spielen\nAlle sind herzlich eingeladen!\n\nKontakt: Diakon Daniel
  Menzi\n\nWeitere Infos: https://www.ref-sgc.ch/veranstaltung/30606
SUMMARY:Kafi-Höck
PRIORITY:5
X-MICROSOFT-CDO-IMPORTANCE:1
CLASS:PUBLIC
END:VEVENT
END:VCALENDAR
