BEGIN:VCALENDAR
PRODID:-//kirchenweb.ch gmbh//veranstaltungsausgabe v2.0//DE
VERSION:2.0
METHOD:PUBLISH
BEGIN:VEVENT
DTSTART:20260607T113000Z
DTEND:20260607T153000Z
LOCATION:Kirchgemeindehaus Linsebühl\, Flurhofstrasse 3\, 9000 St. Gallen
TRANSP:OPAQUE
SEQUENCE:0
UID:30591-veranstaltung@ref-sgc.ch
DTSTAMP:20251125T100446Z
DESCRIPTION:Kontakt: Klemens Gächter\n\nWeitere Infos:
  https://www.ref-sgc.ch/veranstaltung/30591
SUMMARY:Spiel und Gemeinschaftsnachmittag
PRIORITY:5
X-MICROSOFT-CDO-IMPORTANCE:1
CLASS:PUBLIC
END:VEVENT
END:VCALENDAR
