BEGIN:VCALENDAR
PRODID:-//kirchenweb.ch gmbh//veranstaltungsausgabe v2.0//DE
VERSION:2.0
METHOD:PUBLISH
BEGIN:VEVENT
DTSTART:20260607T100000Z
DTEND:20260607T113000Z
LOCATION:Kirchgemeindehaus Linsebühl\, Flurhofstrasse 3\, 9000 St. Gallen
TRANSP:OPAQUE
SEQUENCE:0
UID:30583-veranstaltung@ref-sgc.ch
DTSTAMP:20251125T100938Z
DESCRIPTION:Kontakt: Diakon Daniel Bertoldo\n\nWeitere Infos:
  https://www.ref-sgc.ch/veranstaltung/30583
SUMMARY:Mittagstisch am Sonntag
PRIORITY:5
X-MICROSOFT-CDO-IMPORTANCE:1
CLASS:PUBLIC
END:VEVENT
END:VCALENDAR
