BEGIN:VCALENDAR
PRODID:-//kirchenweb.ch gmbh//veranstaltungsausgabe v2.0//DE
VERSION:2.0
METHOD:PUBLISH
BEGIN:VEVENT
DTSTART:20260628T080000Z
DTEND:20260628T090000Z
LOCATION:Evang.-ref. Kirche Linsebühl\, Flurhofstrasse 1\, 9000 St.
  Gallen
TRANSP:OPAQUE
SEQUENCE:0
UID:30336-veranstaltung@ref-sgc.ch
DTSTAMP:20260114T224143Z
DESCRIPTION:Kaffeetreff; Buchverleih offen\n\nLive-Stream:
  https://www.youtube.com/channel/UCr8jbFY-83kL6xCpocPczow\n\n11.30 Uhr:
  Generationenchor-Konzert\n\nKontakt: Pfr. Stefan Lippuner\n\nWeitere
  Infos: https://www.ref-sgc.ch/veranstaltung/30336
SUMMARY:Gottesdienst mit Kinderchor Linsebühl
PRIORITY:5
X-MICROSOFT-CDO-IMPORTANCE:1
CLASS:PUBLIC
END:VEVENT
END:VCALENDAR
