BEGIN:VCALENDAR
PRODID:-//kirchenweb.ch gmbh//veranstaltungsausgabe v2.0//DE
VERSION:2.0
METHOD:PUBLISH
BEGIN:VEVENT
DTSTART:20260614T080000Z
DTEND:20260614T090000Z
LOCATION:Evang.-ref. Kirche Linsebühl\, Flurhofstrasse 1\, 9000 St.
  Gallen
TRANSP:OPAQUE
SEQUENCE:0
UID:30335-veranstaltung@ref-sgc.ch
DTSTAMP:20260114T223943Z
DESCRIPTION:Am Ende: Segnen & Salben\n\nKaffeetreff; Buchverleih offen\n
 \nLive-Stream: https://www.youtube.com/channel/UCr8jbFY-83kL6xCpocPczow\n
 \nKontakt: Pfr. Stefan Lippuner\n\nWeitere Infos:
  https://www.ref-sgc.ch/veranstaltung/30335
SUMMARY:Gottesdienst Linsebühl
PRIORITY:5
X-MICROSOFT-CDO-IMPORTANCE:1
CLASS:PUBLIC
END:VEVENT
END:VCALENDAR
