BEGIN:VCALENDAR
PRODID:-//kirchenweb.ch gmbh//veranstaltungsausgabe v2.0//DE
VERSION:2.0
METHOD:PUBLISH
BEGIN:VEVENT
DTSTART:20260608T111500Z
DTEND:20260608T121500Z
LOCATION:Evang.-ref. Kirche St. Laurenzen\, Marktgasse 25\, 9000 St.
  Gallen
TRANSP:OPAQUE
SEQUENCE:0
UID:30308-veranstaltung@ref-sgc.ch
DTSTAMP:20260310T070801Z
DESCRIPTION:Kontakt: Pfrn. Kathrin Bolt\n\nWeitere Infos:
  https://www.ref-sgc.ch/veranstaltung/30308
SUMMARY:Sessionsgebet St. Laurenzen
PRIORITY:5
X-MICROSOFT-CDO-IMPORTANCE:1
CLASS:PUBLIC
END:VEVENT
END:VCALENDAR
