BEGIN:VCALENDAR
PRODID:-//kirchenweb.ch gmbh//veranstaltungsausgabe v2.0//DE
VERSION:2.0
METHOD:PUBLISH
BEGIN:VEVENT
DTSTART:20260426T073000Z
DTEND:20260426T083000Z
LOCATION:Evang.-ref. Kirche St. Laurenzen\, Marktgasse 25\, 9000 St.
  Gallen
TRANSP:OPAQUE
SEQUENCE:0
UID:30278-veranstaltung@ref-sgc.ch
DTSTAMP:20260418T125651Z
DESCRIPTION:Im Anschluss Kirchgemeindeversammlung und Apéro\nAuch auf
  http://www.ref-sg-live.ch\n\nKontakt: Pfrn. Kathrin Bolt\n\nWeitere
  Infos: https://www.ref-sgc.ch/veranstaltung/30278
SUMMARY:Gemeinsamer Gottesdienst vor KGV St. Laurenzen
PRIORITY:5
X-MICROSOFT-CDO-IMPORTANCE:1
CLASS:PUBLIC
END:VEVENT
END:VCALENDAR
