BEGIN:VCALENDAR
PRODID:-//kirchenweb.ch gmbh//veranstaltungsausgabe v2.0//DE
VERSION:2.0
METHOD:PUBLISH
BEGIN:VEVENT
DTSTART:20260624T123000Z
DTEND:20260624T143000Z
LOCATION:Kirchgemeindehaus Linsebühl\, Flurhofstrasse 3\, 9000 St. Gallen
TRANSP:OPAQUE
SEQUENCE:0
UID:29829-veranstaltung@ref-sgc.ch
DTSTAMP:20251228T210919Z
DESCRIPTION:Musikalischer Nachmittag mit Gesangsstudent/innen von
  «Vocalsurf»\n\n\nKontakt: Diakon Daniel Bertoldo\n\nWeitere Infos:
  https://www.ref-sgc.ch/veranstaltung/29829
SUMMARY:60plus-Nachmittag
PRIORITY:5
X-MICROSOFT-CDO-IMPORTANCE:1
CLASS:PUBLIC
END:VEVENT
END:VCALENDAR
