BEGIN:VCALENDAR
PRODID:-//kirchenweb.ch gmbh//veranstaltungsausgabe v2.0//DE
VERSION:2.0
METHOD:PUBLISH
BEGIN:VEVENT
DTSTART:20260623T160000Z
DTEND:20260623T173000Z
LOCATION:Kirche Riethüsli\, Gerhardtstrasse 11\, 9012 St. Gallen
TRANSP:OPAQUE
SEQUENCE:0
UID:29798-veranstaltung@ref-sgc.ch
DTSTAMP:20251105T085942Z
DESCRIPTION:Kontakt: Gabrielle Bregenzer-Ris\n\nWeitere Infos:
  https://www.ref-sgc.ch/veranstaltung/29798
SUMMARY:Stille am Abend
PRIORITY:5
X-MICROSOFT-CDO-IMPORTANCE:1
CLASS:PUBLIC
END:VEVENT
END:VCALENDAR
