BEGIN:VCALENDAR
PRODID:-//kirchenweb.ch gmbh//veranstaltungsausgabe v2.0//DE
VERSION:2.0
METHOD:PUBLISH
BEGIN:VEVENT
DTSTART:20260427T060000Z
DTEND:20260427T070000Z
LOCATION:Kirche Riethüsli\, Gerhardtstrasse 11\, 9012 St. Gallen
TRANSP:OPAQUE
SEQUENCE:0
UID:29748-veranstaltung@ref-sgc.ch
DTSTAMP:20251105T085619Z
DESCRIPTION:Kontakt: Gabrielle Bregenzer-Ris\n\nWeitere Infos:
  https://www.ref-sgc.ch/veranstaltung/29748
SUMMARY:Stille am Morgen
PRIORITY:5
X-MICROSOFT-CDO-IMPORTANCE:1
CLASS:PUBLIC
END:VEVENT
END:VCALENDAR
