BEGIN:VCALENDAR
PRODID:-//kirchenweb.ch gmbh//veranstaltungsausgabe v2.0//DE
VERSION:2.0
METHOD:PUBLISH
BEGIN:VEVENT
DTSTART:20260624T160000Z
DTEND:20260624T173000Z
LOCATION:Kirche Riethüsli\, Gerhardtstrasse 11\, 9012 St. Gallen
TRANSP:OPAQUE
SEQUENCE:0
UID:29727-veranstaltung@ref-sgc.ch
DTSTAMP:20251105T084906Z
DESCRIPTION:Piazza\n\nKontakt: Pfr. Matthias Wenk\n\nWeitere Infos:
  https://www.ref-sgc.ch/veranstaltung/29727
SUMMARY:PizzaPiazza
PRIORITY:5
X-MICROSOFT-CDO-IMPORTANCE:1
CLASS:PUBLIC
END:VEVENT
END:VCALENDAR
