BEGIN:VCALENDAR
PRODID:-//kirchenweb.ch gmbh//veranstaltungsausgabe v2.0//DE
VERSION:2.0
METHOD:PUBLISH
BEGIN:VEVENT
DTSTART:20260605T133000Z
DTEND:20260605T150000Z
LOCATION:Kirche Riethüsli\, Gerhardtstrasse 11\, 9012 St. Gallen
TRANSP:OPAQUE
SEQUENCE:0
UID:29676-veranstaltung@ref-sgc.ch
DTSTAMP:20251105T074921Z
DESCRIPTION:Kontakt: Susanne Brunschwiler\n\nWeitere Infos:
  https://www.ref-sgc.ch/veranstaltung/29676
SUMMARY:Chinderkafi
PRIORITY:5
X-MICROSOFT-CDO-IMPORTANCE:1
CLASS:PUBLIC
END:VEVENT
END:VCALENDAR
