BEGIN:VCALENDAR
PRODID:-//kirchenweb.ch gmbh//veranstaltungsausgabe v2.0//DE
VERSION:2.0
METHOD:PUBLISH
BEGIN:VEVENT
DTSTART:20261107T070000Z
DTEND:20261107T093000Z
LOCATION:Kirche Riethüsli\, Gerhardtstrasse 11\, 9012 St. Gallen
TRANSP:OPAQUE
SEQUENCE:0
UID:29645-veranstaltung@ref-sgc.ch
DTSTAMP:20251105T072711Z
DESCRIPTION:Kontakt: Heidi Oggenfuss\n\nWeitere Infos:
  https://www.ref-sgc.ch/veranstaltung/29645
SUMMARY:Riethüslizmorge
PRIORITY:5
X-MICROSOFT-CDO-IMPORTANCE:1
CLASS:PUBLIC
END:VEVENT
END:VCALENDAR
