BEGIN:VCALENDAR
PRODID:-//kirchenweb.ch gmbh//veranstaltungsausgabe v2.0//DE
VERSION:2.0
METHOD:PUBLISH
BEGIN:VEVENT
DTSTART:20260625T070000Z
DTEND:20260625T080000Z
LOCATION:Kirche Riethüsli\, Gerhardtstrasse 11\, 9012 St. Gallen
TRANSP:OPAQUE
SEQUENCE:0
UID:29592-veranstaltung@ref-sgc.ch
DTSTAMP:20251105T084958Z
DESCRIPTION:anschliessend Kaffee oder Tee im Nestpunkt\n\nKontakt: Barbara
  Walser\n\nWeitere Infos: https://www.ref-sgc.ch/veranstaltung/29592
SUMMARY:Feiern im Alltag - Wortgottesdienst
PRIORITY:5
X-MICROSOFT-CDO-IMPORTANCE:1
CLASS:PUBLIC
END:VEVENT
END:VCALENDAR
