BEGIN:VCALENDAR
PRODID:-//kirchenweb.ch gmbh//veranstaltungsausgabe v2.0//DE
VERSION:2.0
METHOD:PUBLISH
BEGIN:VEVENT
DTSTART:20260623T133000Z
DTEND:20260623T153000Z
LOCATION:Kirchgemeindehaus Linsebühl\, Flurhofstrasse 3\, 9000 St. Gallen
TRANSP:OPAQUE
SEQUENCE:0
UID:29249-veranstaltung@ref-sgc.ch
DTSTAMP:20260404T185521Z
DESCRIPTION:Je mehr grundlegende Werte in unserer Gesellschaft zerfallen
  oder zumindest beliebig werden\, desto wichtiger ist es\, sich auf die
  fundamentalen Wegweisungen auszurichten\, die Gott uns Menschen gegeben
  hat für ein gutes Leben und Zusammenleben. Zu diesen gehören in erster
  Linie die Zehn Gebote in der Bibel (2. Mose 20 und 5. Mose 5).\nIn fünf
  Sequenzen wollen wir diese zehn grundlegenden Gebote betrachten und
  miteinander ins Gespräch kommen darüber\, welche Bedeutung sie für uns
  und unsere heutige Gesellschaft praktisch haben können.\n(Mit Pfr.
  Stefan Lippuner)\n\nAlle Daten: 12. Mai / 26. Mai / 2. Juni / 23. Juni /
  7. Juli 2026\n\n\nKontakt: Pfr. Stefan Lippuner\n\nWeitere Infos:
  https://www.ref-sgc.ch/veranstaltung/29249
SUMMARY:Die Zehn Gebote
PRIORITY:5
X-MICROSOFT-CDO-IMPORTANCE:1
CLASS:PUBLIC
END:VEVENT
END:VCALENDAR
