BEGIN:VCALENDAR
PRODID:-//kirchenweb.ch gmbh//veranstaltungsausgabe v2.0//DE
VERSION:2.0
METHOD:PUBLISH
BEGIN:VEVENT
DTSTART:20261031T160000Z
DTEND:20261031T162000Z
LOCATION:Kreuzgang St. Katharinen\, \,  St. Gallen
TRANSP:OPAQUE
SEQUENCE:0
UID:29173-veranstaltung@ref-sgc.ch
DTSTAMP:20251014T120405Z
DESCRIPTION:Kontakt: Imelda Natter\n\nWeitere Infos:
  https://www.ref-sgc.ch/veranstaltung/29173
SUMMARY:Klanghalt
PRIORITY:5
X-MICROSOFT-CDO-IMPORTANCE:1
CLASS:PUBLIC
END:VEVENT
END:VCALENDAR
