BEGIN:VCALENDAR
PRODID:-//kirchenweb.ch gmbh//veranstaltungsausgabe v2.0//DE
VERSION:2.0
METHOD:PUBLISH
BEGIN:VEVENT
DTSTART:20260627T150000Z
DTEND:20260627T152000Z
LOCATION:Kreuzgang St. Katharinen\, \,  St. Gallen
TRANSP:OPAQUE
SEQUENCE:0
UID:29169-veranstaltung@ref-sgc.ch
DTSTAMP:20251014T120404Z
DESCRIPTION:Kontakt: Imelda Natter\n\nWeitere Infos:
  https://www.ref-sgc.ch/veranstaltung/29169
SUMMARY:Klanghalt
PRIORITY:5
X-MICROSOFT-CDO-IMPORTANCE:1
CLASS:PUBLIC
END:VEVENT
END:VCALENDAR
