BEGIN:VCALENDAR
PRODID:-//kirchenweb.ch gmbh//veranstaltungsausgabe v2.0//DE
VERSION:2.0
METHOD:PUBLISH
BEGIN:VEVENT
DTSTART:20261217T130000Z
DTEND:20261217T153000Z
LOCATION:KGH\, Demutstrasse 20\, 9000 St. Gallen\, Demutstrasse 20\, 9000
  St.Gallen
TRANSP:OPAQUE
SEQUENCE:0
UID:28869-veranstaltung@ref-sgc.ch
DTSTAMP:20250919T120111Z
DESCRIPTION:Kontakt: Daniel Menzi\n\nWeitere Infos:
  https://www.ref-sgc.ch/veranstaltung/28869
SUMMARY:Andacht mit Kafi-Höck
PRIORITY:5
X-MICROSOFT-CDO-IMPORTANCE:1
CLASS:PUBLIC
END:VEVENT
END:VCALENDAR
