BEGIN:VCALENDAR
PRODID:-//kirchenweb.ch gmbh//veranstaltungsausgabe v2.0//DE
VERSION:2.0
METHOD:PUBLISH
BEGIN:VEVENT
DTSTART:20260826T173000Z
DTEND:20260826T193000Z
LOCATION:Kirchgemeindehaus St. Georgen\, Demutstrasse 20\, 9000 St. Gallen
TRANSP:OPAQUE
SEQUENCE:0
UID:28476-veranstaltung@ref-sgc.ch
DTSTAMP:20250815T142852Z
DESCRIPTION:Kontakt: Markus Unholz\, Claire Pasquier\n\nWeitere Infos:
  https://www.ref-sgc.ch/veranstaltung/28476
SUMMARY:Swinging with the Lutz Brothers
PRIORITY:5
X-MICROSOFT-CDO-IMPORTANCE:1
CLASS:PUBLIC
END:VEVENT
END:VCALENDAR
