BEGIN:VCALENDAR
PRODID:-//kirchenweb.ch gmbh//veranstaltungsausgabe v2.0//DE
VERSION:2.0
METHOD:PUBLISH
BEGIN:VEVENT
DTSTART:20260909T160000Z
DTEND:20260909T164500Z
LOCATION:Evang.-ref. Kirche St. Mangen\, Kirchgasse 17\, 9000 St. Gallen
TRANSP:OPAQUE
SEQUENCE:0
UID:28227-veranstaltung@ref-sgc.ch
DTSTAMP:20250721T142817Z
DESCRIPTION:Die Kirche St. Mangen ist mit ihrer Akustik ein einladender
  Ort zum Singen. Wer gerne eintaucht in gemeinsame Klänge und die Stimme
  mit einsetzt\, ist hier genau richtig. Wir singen a cappella und ohne
  Noten. Dass dies möglich wird und ist\, dafür sorgt Christof Menzi\,
  der diese Singzeit von 45 Minuten anleitet. In der kälteren Jahreszeit
  empfehlen wir warme Kleidung.\nWir lernen durch Nachsingen und finden zum
  vierstimmigen Klang. Wir singen geistliche Literatur vorwiegend aus den
  letzten 70 Jahren und bauen so ein Repertoire auf. Sie können jederzeit
  dazukommen oder wiederkommen. \nHERZLICHE EINLADUNG!\n\nDas Offene
  Chorsingen findet wöchentlich statt\, ausgenommen in den Schulferien.\n
 \n\n\nKontakt: Christof Menzi\nTel. 044 764 32 00\n\nWeitere Infos:
  https://www.ref-sgc.ch/veranstaltung/28227
SUMMARY:Offenes Chorsingen
PRIORITY:5
X-MICROSOFT-CDO-IMPORTANCE:1
CLASS:PUBLIC
END:VEVENT
END:VCALENDAR
