BEGIN:VCALENDAR
PRODID:-//kirchenweb.ch gmbh//veranstaltungsausgabe v2.0//DE
VERSION:2.0
METHOD:PUBLISH
BEGIN:VEVENT
DTSTART:20260915T123000Z
DTEND:20260915T143000Z
LOCATION:Kirchgemeindehaus St. Georgen\, Demutstrasse 20\, 9000 St. Gallen
TRANSP:OPAQUE
SEQUENCE:0
UID:27457-veranstaltung@ref-sgc.ch
DTSTAMP:20250710T145258Z
DESCRIPTION:Kontakt: Markus Unholz\n\nWeitere Infos:
  https://www.ref-sgc.ch/veranstaltung/27457
SUMMARY:Ök. Seniorennachmittag mit dem Zauberer Klaus Greminger
PRIORITY:5
X-MICROSOFT-CDO-IMPORTANCE:1
CLASS:PUBLIC
END:VEVENT
END:VCALENDAR
