BEGIN:VCALENDAR
PRODID:-//kirchenweb.ch gmbh//veranstaltungsausgabe v2.0//DE
VERSION:2.0
METHOD:PUBLISH
BEGIN:VEVENT
DTSTART:20261123T183000Z
DTEND:20261123T210000Z
LOCATION:Kirche Riethüsli\, Gerhardtstrasse 11\, 9012 St. Gallen
TRANSP:OPAQUE
SEQUENCE:0
UID:26778-veranstaltung@ref-sgc.ch
DTSTAMP:20260120T073152Z
DESCRIPTION:Alle Männer sind herzlich willkommen zu einem geselligen
  Abend. \nAustausch\, Töggele und Dartspielen aber auch etwas knappern
  und trinken sind Teile des ungezwungenen Abends.\n\nKontakt: Diakon
  Daniel Bertoldo\n\nWeitere Infos:
  https://www.ref-sgc.ch/veranstaltung/26778
SUMMARY:Männerabend
PRIORITY:5
X-MICROSOFT-CDO-IMPORTANCE:1
CLASS:PUBLIC
END:VEVENT
END:VCALENDAR
