BEGIN:VCALENDAR
PRODID:-//kirchenweb.ch gmbh//veranstaltungsausgabe v2.0//DE
VERSION:2.0
METHOD:PUBLISH
BEGIN:VEVENT
DTSTART:20250613T140000Z
DTEND:20250613T160000Z
LOCATION:Denkbar\, \,
TRANSP:OPAQUE
SEQUENCE:0
UID:26710-veranstaltung@ref-sgc.ch
DTSTAMP:20250515T054002Z
DESCRIPTION:Die beiden Sterbe- und Trauerbegleiterinnen Isabel Spirig und
  Francesca Peter bieten neu jeweils am zweiten Freitag des Monats im Salon
  der DenkBar ein Trauercafé mit Gesprächsmöglichkeit und kreativen
  Impulsen an.  \nEin Raum für Austausch\, Verarbeitung und
  Neuorientierung. Ob als aktive Erzählerin oder stiller Zuhörer\,
  langjährige Trauernde oder neu Betroffener.\n\n\nKontakt: Pfrn. Kathrin
  Bolt\n\nWeitere Infos: https://www.ref-sgc.ch/veranstaltung/26710
SUMMARY:Trauercafé in der DenkBar
PRIORITY:5
X-MICROSOFT-CDO-IMPORTANCE:1
CLASS:PUBLIC
END:VEVENT
END:VCALENDAR
