BEGIN:VCALENDAR
PRODID:-//kirchenweb.ch gmbh//veranstaltungsausgabe v2.0//DE
VERSION:2.0
METHOD:PUBLISH
BEGIN:VEVENT
DTSTART:20250625T101500Z
DTEND:20250625T104500Z
LOCATION:Evang.-ref. Kirche St. Laurenzen\, Marktgasse 25\, 9000 St.
  Gallen
TRANSP:OPAQUE
SEQUENCE:0
UID:26707-veranstaltung@ref-sgc.ch
DTSTAMP:20250515T052519Z
DESCRIPTION:Duo Meyer Waldburger\nGabriel Meyer\, Gitarre\nMarcel
  Waldburger\, Flügel\n\nKontakt: Bernhard Ruchti\n\nWeitere Infos:
  https://www.ref-sgc.ch/veranstaltung/26707
SUMMARY:Mittwoch-Mittags-Konzert
PRIORITY:5
X-MICROSOFT-CDO-IMPORTANCE:1
CLASS:PUBLIC
END:VEVENT
END:VCALENDAR
