BEGIN:VCALENDAR
PRODID:-//kirchenweb.ch gmbh//veranstaltungsausgabe v2.0//DE
VERSION:2.0
METHOD:PUBLISH
BEGIN:VEVENT
DTSTART:20250615T160000Z
DTEND:20250615T170000Z
LOCATION:Evang.-ref. Kirche St. Laurenzen\, Marktgasse 25\, 9000 St.
  Gallen
TRANSP:OPAQUE
SEQUENCE:0
UID:26509-veranstaltung@ref-sgc.ch
DTSTAMP:20250515T060155Z
DESCRIPTION:Die Synode der Evangelische Kirche Schweiz trifft sich in St.
  Gallen. Erleben Sie mit Menschen aus der ganzen Schweiz einen festlichen
  Gottesdienst mit besonderer Musik\, Abendmahl und Einsetzung der neuen
  Synodalen.\nDie Gemeinde ist herzlich eingeladen mitzufeiern.\n\n
 \nKontakt: Kirchenratspräsident Pfr. M. Schmidt\, Pfrn. Kathrin Bolt\n
 \nWeitere Infos: https://www.ref-sgc.ch/veranstaltung/26509
SUMMARY:Gottesdienst mit der EKS-Synode
PRIORITY:5
X-MICROSOFT-CDO-IMPORTANCE:1
CLASS:PUBLIC
END:VEVENT
END:VCALENDAR
