BEGIN:VCALENDAR
PRODID:-//kirchenweb.ch gmbh//veranstaltungsausgabe v2.0//DE
VERSION:2.0
METHOD:PUBLISH
BEGIN:VEVENT
DTSTART:20250619T140000Z
DTEND:20250619T160000Z
LOCATION:Evang.-ref. Kirche St. Laurenzen\, Marktgasse 25\, 9000 St.
  Gallen
TRANSP:OPAQUE
SEQUENCE:0
UID:24913-veranstaltung@ref-sgc.ch
DTSTAMP:20250515T054422Z
DESCRIPTION:«Gibt es Dinge\, die Sie im Moment beschäftigen oder
  belasten? Sprechen Sie mit einer ausgebildeten Seelsorgerin\, einem
  Seelsorger\, der unter Schweigepflicht steht. Ein Angebot für alle\,
  unabhängig von Herkunft und religiöser Zugehörigkeit.»\nWalter
  Lingenhöle\n\n\nKontakt: sabrina.koller@ref-sgc.ch\n\nWeitere Infos:
  https://www.ref-sgc.ch/veranstaltung/24913
SUMMARY:GANZ OHR - für Ihre Anliegen
PRIORITY:5
X-MICROSOFT-CDO-IMPORTANCE:1
CLASS:PUBLIC
END:VEVENT
END:VCALENDAR
