BEGIN:VCALENDAR
PRODID:-//kirchenweb.ch gmbh//veranstaltungsausgabe v2.0//DE
VERSION:2.0
METHOD:PUBLISH
BEGIN:VEVENT
DTSTART:20260403T160000Z
DTEND:20260403T164000Z
LOCATION:Evang.-ref. Kirche St. Laurenzen\, Marktgasse 25\, 9000 St.
  Gallen
TRANSP:OPAQUE
SEQUENCE:0
UID:23429-veranstaltung@ref-sgc.ch
DTSTAMP:20260331T114225Z
DESCRIPTION:Uraufführung:\nHymnus an das Leben (Requiem aeternam)\nEin
  neues Chorwerk von Bernhard Ruchti\n\nVokalensemble con passione\nMelanie
  Veser\, Mezzosopran\nYuko Ishikawa und Iryna Gintova\, Violinen\nInez
  Ellmann\, Perkussion\nBernhard Ruchti\, Orgel\nLukas Bolt\, Leitung
 \nKathrin Bolt und Philipp Kamm\, Lesungen\n\nKontakt:
  sabrina.koller@ref-sgc.ch\n\nWeitere Infos:
  https://www.ref-sgc.ch/veranstaltung/23429
SUMMARY:Karfreitags-Vesper
PRIORITY:5
X-MICROSOFT-CDO-IMPORTANCE:1
CLASS:PUBLIC
END:VEVENT
END:VCALENDAR
