BEGIN:VCALENDAR
PRODID:-//kirchenweb.ch gmbh//veranstaltungsausgabe v2.0//DE
VERSION:2.0
METHOD:PUBLISH
BEGIN:VEVENT
DTSTART:20250620T160000Z
DTEND:20250620T164000Z
LOCATION:Evang.-ref. Kirche St. Laurenzen\, Marktgasse 25\, 9000 St.
  Gallen
TRANSP:OPAQUE
SEQUENCE:0
UID:23420-veranstaltung@ref-sgc.ch
DTSTAMP:20250422T134903Z
DESCRIPTION:Vesper zur Sommersonnenwende\nGlühwürmchen kannst du nicht
  pflücken\nFeuertanz auf der Laurenzen-Orgel\n30-40 Minuten Musik &
  Poesie zum Ankommen\, Nachdenken\, Weitergehen\nAuch auf
  http://www.ref-sg-live.ch\nVesper nach der Vesper: wer mag\, trifft sich
  im Anschluss in der Denkbar\, Gallusstrasse 11\n\nKontakt: Pfrn. Kathrin
  Bolt\n\nWeitere Infos: https://www.ref-sgc.ch/veranstaltung/23420
SUMMARY:Laurenzen Vesper
PRIORITY:5
X-MICROSOFT-CDO-IMPORTANCE:1
CLASS:PUBLIC
END:VEVENT
END:VCALENDAR
