BEGIN:VCALENDAR
PRODID:-//kirchenweb.ch gmbh//veranstaltungsausgabe v2.0//DE
VERSION:2.0
METHOD:PUBLISH
BEGIN:VEVENT
DTSTART:20250604T101500Z
DTEND:20250604T104500Z
LOCATION:Evang.-ref. Kirche St. Laurenzen\, Marktgasse 25\, 9000 St.
  Gallen
TRANSP:OPAQUE
SEQUENCE:0
UID:23412-veranstaltung@ref-sgc.ch
DTSTAMP:20250515T052235Z
DESCRIPTION:Duo Programm mit Goran Kovačević und Claire Pasquier﻿\n
 \nKontakt: Bernhard Ruchti\n\nWeitere Infos:
  https://www.ref-sgc.ch/veranstaltung/23412
SUMMARY:Mittwoch-Mittags-Konzert
PRIORITY:5
X-MICROSOFT-CDO-IMPORTANCE:1
CLASS:PUBLIC
END:VEVENT
END:VCALENDAR
