BEGIN:VCALENDAR
PRODID:-//kirchenweb.ch gmbh//veranstaltungsausgabe v2.0//DE
VERSION:2.0
METHOD:PUBLISH
BEGIN:VEVENT
DTSTART:20261203T140000Z
DTEND:20261203T160000Z
LOCATION:Centrum St. Mangen\, Unterer Graben 52\, 9000 St. Gallen
TRANSP:OPAQUE
SEQUENCE:0
UID:23083-veranstaltung@ref-sgc.ch
DTSTAMP:20250905T083421Z
DESCRIPTION:Wir laden Sie herzlich zum Mitsingen ein!\n\n\nKontakt: Tanja
  Müller\n\nWeitere Infos: https://www.ref-sgc.ch/veranstaltung/23083
SUMMARY:Singen mit Ruedi Lutz
PRIORITY:5
X-MICROSOFT-CDO-IMPORTANCE:1
CLASS:PUBLIC
END:VEVENT
END:VCALENDAR
