BEGIN:VCALENDAR
PRODID:-//kirchenweb.ch gmbh//veranstaltungsausgabe v2.0//DE
VERSION:2.0
METHOD:PUBLISH
BEGIN:VEVENT
DTSTART:20260621T083000Z
DTEND:20260621T100000Z
LOCATION:Evang.-ref. Kirche St. Laurenzen\, Marktgasse 25\, 9000 St.
  Gallen
TRANSP:OPAQUE
SEQUENCE:0
UID:22695-veranstaltung@ref-sgc.ch
DTSTAMP:20251230T085754Z
DESCRIPTION:Kontakt: Chika Uzor\n\nWeitere Infos:
  https://www.ref-sgc.ch/veranstaltung/22695
SUMMARY:Interreligiöser Gedenkgottesdienst "Beim Namen nennen"
PRIORITY:5
X-MICROSOFT-CDO-IMPORTANCE:1
CLASS:PUBLIC
END:VEVENT
END:VCALENDAR
