BEGIN:VCALENDAR
PRODID:-//kirchenweb.ch gmbh//veranstaltungsausgabe v2.0//DE
VERSION:2.0
METHOD:PUBLISH
BEGIN:VEVENT
DTSTART:20260616T173000Z
DTEND:20260616T215900Z
LOCATION:Evang.-ref. Kirche St. Laurenzen\, Marktgasse 25\, 9000 St.
  Gallen
TRANSP:OPAQUE
SEQUENCE:0
UID:21220-veranstaltung@ref-sgc.ch
DTSTAMP:20251119T095549Z
DESCRIPTION:19.30 Uhr öffentliche Hauptprobe\n23.15 Uhr Gottesdienst New
  Orleans Church Service\n\nKontakt: Bea Känel\n\nWeitere Infos:
  https://www.ref-sgc.ch/veranstaltung/21220
SUMMARY:New Orleans
PRIORITY:5
X-MICROSOFT-CDO-IMPORTANCE:1
CLASS:PUBLIC
END:VEVENT
END:VCALENDAR
